BEGIN:VCALENDAR
VERSION:2.0
PRODID:-//TSV Birkenau - ECPv6.15.20//NONSGML v1.0//EN
CALSCALE:GREGORIAN
METHOD:PUBLISH
X-ORIGINAL-URL:https://www.tsv-birkenau.de
X-WR-CALDESC:Veranstaltungen für TSV Birkenau
REFRESH-INTERVAL;VALUE=DURATION:PT1H
X-Robots-Tag:noindex
X-PUBLISHED-TTL:PT1H
BEGIN:VTIMEZONE
TZID:Europe/Paris
BEGIN:DAYLIGHT
TZOFFSETFROM:+0100
TZOFFSETTO:+0200
TZNAME:CEST
DTSTART:20240331T010000
END:DAYLIGHT
BEGIN:STANDARD
TZOFFSETFROM:+0200
TZOFFSETTO:+0100
TZNAME:CET
DTSTART:20241027T010000
END:STANDARD
BEGIN:DAYLIGHT
TZOFFSETFROM:+0100
TZOFFSETTO:+0200
TZNAME:CEST
DTSTART:20250330T010000
END:DAYLIGHT
BEGIN:STANDARD
TZOFFSETFROM:+0200
TZOFFSETTO:+0100
TZNAME:CET
DTSTART:20251026T010000
END:STANDARD
BEGIN:DAYLIGHT
TZOFFSETFROM:+0100
TZOFFSETTO:+0200
TZNAME:CEST
DTSTART:20260329T010000
END:DAYLIGHT
BEGIN:STANDARD
TZOFFSETFROM:+0200
TZOFFSETTO:+0100
TZNAME:CET
DTSTART:20261025T010000
END:STANDARD
END:VTIMEZONE
BEGIN:VEVENT
DTSTART;TZID=Europe/Paris:20250914T100000
DTEND;TZID=Europe/Paris:20250914T150000
DTSTAMP:20260424T083603
CREATED:20250429T142740Z
LAST-MODIFIED:20250429T142740Z
UID:4269-1757844000-1757862000@www.tsv-birkenau.de
SUMMARY:TL Damen 2
DESCRIPTION:
URL:https://www.tsv-birkenau.de/index.php/veranstaltung/tl-damen-2-4
LOCATION:LBS Halle
END:VEVENT
BEGIN:VEVENT
DTSTART;TZID=Europe/Paris:20250913T100000
DTEND;TZID=Europe/Paris:20250913T190000
DTSTAMP:20260424T083603
CREATED:20250429T142740Z
LAST-MODIFIED:20250429T142740Z
UID:4268-1757757600-1757790000@www.tsv-birkenau.de
SUMMARY:TL Damen 2
DESCRIPTION:
URL:https://www.tsv-birkenau.de/index.php/veranstaltung/tl-damen-2-3
LOCATION:LBS Halle
END:VEVENT
BEGIN:VEVENT
DTSTART;TZID=Europe/Paris:20250831T100000
DTEND;TZID=Europe/Paris:20250831T150000
DTSTAMP:20260424T083603
CREATED:20250429T142725Z
LAST-MODIFIED:20250429T142725Z
UID:4267-1756634400-1756652400@www.tsv-birkenau.de
SUMMARY:TL Damen 2
DESCRIPTION:
URL:https://www.tsv-birkenau.de/index.php/veranstaltung/tl-damen-2-2
LOCATION:LBS Halle
END:VEVENT
BEGIN:VEVENT
DTSTART;TZID=Europe/Paris:20250830T090000
DTEND;TZID=Europe/Paris:20250831T020000
DTSTAMP:20260424T083603
CREATED:20250429T142725Z
LAST-MODIFIED:20250429T142725Z
UID:4266-1756544400-1756605600@www.tsv-birkenau.de
SUMMARY:TL Damen 2
DESCRIPTION:
URL:https://www.tsv-birkenau.de/index.php/veranstaltung/tl-damen-2
LOCATION:LBS Halle
END:VEVENT
BEGIN:VEVENT
DTSTART;TZID=Europe/Paris:20250824T100000
DTEND;TZID=Europe/Paris:20250824T140000
DTSTAMP:20260424T083603
CREATED:20250429T142756Z
LAST-MODIFIED:20250429T142756Z
UID:4275-1756029600-1756044000@www.tsv-birkenau.de
SUMMARY:Training Damen 1
DESCRIPTION:
URL:https://www.tsv-birkenau.de/index.php/veranstaltung/training-damen-1-4
LOCATION:LBS Halle
END:VEVENT
BEGIN:VEVENT
DTSTART;TZID=Europe/Paris:20250817T100000
DTEND;TZID=Europe/Paris:20250817T180000
DTSTAMP:20260424T083603
CREATED:20250429T142756Z
LAST-MODIFIED:20250429T142756Z
UID:4274-1755424800-1755453600@www.tsv-birkenau.de
SUMMARY:TL Damen 1
DESCRIPTION:
URL:https://www.tsv-birkenau.de/index.php/veranstaltung/tl-damen-1-2
LOCATION:LBS Halle
END:VEVENT
BEGIN:VEVENT
DTSTART;TZID=Europe/Paris:20250816T100000
DTEND;TZID=Europe/Paris:20250816T180000
DTSTAMP:20260424T083603
CREATED:20250429T142756Z
LAST-MODIFIED:20250429T142756Z
UID:4273-1755338400-1755367200@www.tsv-birkenau.de
SUMMARY:TL Damen 1
DESCRIPTION:
URL:https://www.tsv-birkenau.de/index.php/veranstaltung/tl-damen-1
LOCATION:LBS Halle
END:VEVENT
BEGIN:VEVENT
DTSTART;TZID=Europe/Paris:20250803T100000
DTEND;TZID=Europe/Paris:20250803T160000
DTSTAMP:20260424T083603
CREATED:20250429T142741Z
LAST-MODIFIED:20250429T142741Z
UID:4272-1754215200-1754236800@www.tsv-birkenau.de
SUMMARY:Training Damen 1.
DESCRIPTION:
URL:https://www.tsv-birkenau.de/index.php/veranstaltung/training-damen-1-3
LOCATION:LBS Halle
END:VEVENT
BEGIN:VEVENT
DTSTART;TZID=Europe/Paris:20250802T100000
DTEND;TZID=Europe/Paris:20250802T160000
DTSTAMP:20260424T083603
CREATED:20250429T142740Z
LAST-MODIFIED:20250429T142740Z
UID:4271-1754128800-1754150400@www.tsv-birkenau.de
SUMMARY:Training Damen 1
DESCRIPTION:
URL:https://www.tsv-birkenau.de/index.php/veranstaltung/training-damen-1-2
LOCATION:LBS Halle
END:VEVENT
BEGIN:VEVENT
DTSTART;TZID=Europe/Paris:20250719T100000
DTEND;TZID=Europe/Paris:20250719T160000
DTSTAMP:20260424T083603
CREATED:20250429T142740Z
LAST-MODIFIED:20250429T142740Z
UID:4270-1752919200-1752940800@www.tsv-birkenau.de
SUMMARY:Training Damen 1
DESCRIPTION:
URL:https://www.tsv-birkenau.de/index.php/veranstaltung/training-damen-1
LOCATION:LBS Halle
END:VEVENT
BEGIN:VEVENT
DTSTART;TZID=Europe/Paris:20250711T100000
DTEND;TZID=Europe/Paris:20250714T103000
DTSTAMP:20260424T083603
CREATED:20250429T142717Z
LAST-MODIFIED:20250429T142717Z
UID:4263-1752228000-1752489000@www.tsv-birkenau.de
SUMMARY:Kerwe 2025
DESCRIPTION:
URL:https://www.tsv-birkenau.de/index.php/veranstaltung/kerwe-2025
END:VEVENT
BEGIN:VEVENT
DTSTART;TZID=Europe/Paris:20250611T190000
DTEND;TZID=Europe/Paris:20250611T210000
DTSTAMP:20260424T083603
CREATED:20250429T142756Z
LAST-MODIFIED:20250429T142756Z
UID:4276-1749668400-1749675600@www.tsv-birkenau.de
SUMMARY:Sitzung wenn notwendig\, Vereinsgremium
DESCRIPTION:
URL:https://www.tsv-birkenau.de/index.php/veranstaltung/sitzung-wenn-notwendig-vereinsgremium
END:VEVENT
BEGIN:VEVENT
DTSTART;TZID=Europe/Paris:20250601T090000
DTEND;TZID=Europe/Paris:20250601T160000
DTSTAMP:20260424T083603
CREATED:20250429T142725Z
LAST-MODIFIED:20250429T142725Z
UID:4265-1748768400-1748793600@www.tsv-birkenau.de
SUMMARY:Quali JSG vorab geblockt
DESCRIPTION:
URL:https://www.tsv-birkenau.de/index.php/veranstaltung/quali-jsg-vorab-geblockt
LOCATION:LBS Halle
END:VEVENT
BEGIN:VEVENT
DTSTART;TZID=Europe/Paris:20250525T090000
DTEND;TZID=Europe/Paris:20250525T160000
DTSTAMP:20260424T083603
CREATED:20250429T142724Z
LAST-MODIFIED:20250429T142724Z
UID:4264-1748163600-1748188800@www.tsv-birkenau.de
SUMMARY:Quali JSG Weschnitztal gD
DESCRIPTION:
URL:https://www.tsv-birkenau.de/index.php/veranstaltung/quali-jsg-weschnitztal-gd
LOCATION:LBS Halle
END:VEVENT
BEGIN:VEVENT
DTSTART;TZID=Europe/Paris:20250511T090000
DTEND;TZID=Europe/Paris:20250511T160000
DTSTAMP:20260424T083603
CREATED:20250426T132120Z
LAST-MODIFIED:20250429T142717Z
UID:4257-1746954000-1746979200@www.tsv-birkenau.de
SUMMARY:Quali wD Jugend
DESCRIPTION:
URL:https://www.tsv-birkenau.de/index.php/veranstaltung/quali-wd-jugend
LOCATION:LBS Halle
END:VEVENT
BEGIN:VEVENT
DTSTART;TZID=Europe/Paris:20250510T090000
DTEND;TZID=Europe/Paris:20250510T160000
DTSTAMP:20260424T083603
CREATED:20250426T132154Z
LAST-MODIFIED:20250429T142717Z
UID:4255-1746867600-1746892800@www.tsv-birkenau.de
SUMMARY:Quali wC Jugend
DESCRIPTION:
URL:https://www.tsv-birkenau.de/index.php/veranstaltung/quali-wc-jugend
LOCATION:LBS Halle
END:VEVENT
BEGIN:VEVENT
DTSTART;TZID=Europe/Paris:20250504T090000
DTEND;TZID=Europe/Paris:20250504T183000
DTSTAMP:20260424T083603
CREATED:20250426T131555Z
LAST-MODIFIED:20250502T082900Z
UID:4253-1746349200-1746383400@www.tsv-birkenau.de
SUMMARY:Quali JSG mB Jugend
DESCRIPTION:
URL:https://www.tsv-birkenau.de/index.php/veranstaltung/quali-jsg-mb-jugend
LOCATION:LBS Halle
END:VEVENT
BEGIN:VEVENT
DTSTART;TZID=Europe/Paris:20250501T140000
DTEND;TZID=Europe/Paris:20250501T153000
DTSTAMP:20260424T083603
CREATED:20250115T145900Z
LAST-MODIFIED:20250115T145900Z
UID:3741-1746108000-1746113400@www.tsv-birkenau.de
SUMMARY:wC - SG Ed/Fr/Wie
DESCRIPTION:
URL:https://www.tsv-birkenau.de/index.php/veranstaltung/wc-sg-ed-fr-wie
LOCATION:LBS Halle
END:VEVENT
BEGIN:VEVENT
DTSTART;TZID=Europe/Paris:20250501T113000
DTEND;TZID=Europe/Paris:20250501T130000
DTSTAMP:20260424T083603
CREATED:20250115T145711Z
LAST-MODIFIED:20250429T142717Z
UID:3701-1746099000-1746104400@www.tsv-birkenau.de
SUMMARY:Herren 1 - TV Schriesheim
DESCRIPTION:
URL:https://www.tsv-birkenau.de/index.php/veranstaltung/herren-1-tv-schriesheim
LOCATION:LBS
END:VEVENT
BEGIN:VEVENT
DTSTART;TZID=Europe/Paris:20250429T183000
DTEND;TZID=Europe/Paris:20250429T200000
DTSTAMP:20260424T083603
CREATED:20250429T142757Z
LAST-MODIFIED:20250429T142757Z
UID:4277-1745951400-1745956800@www.tsv-birkenau.de
SUMMARY:Sitzung Sponsoring Damen / Herren
DESCRIPTION:
URL:https://www.tsv-birkenau.de/index.php/veranstaltung/sitzung-sponsoring-damen-herren
END:VEVENT
BEGIN:VEVENT
DTSTART;TZID=Europe/Paris:20250426T193000
DTEND;TZID=Europe/Paris:20250426T210000
DTSTAMP:20260424T083603
CREATED:20250115T145815Z
LAST-MODIFIED:20250115T145815Z
UID:3729-1745695800-1745701200@www.tsv-birkenau.de
SUMMARY:Damen 1 - TSV Rot-Malsch
DESCRIPTION:
URL:https://www.tsv-birkenau.de/index.php/veranstaltung/damen-1-tsv-rot-malsch
LOCATION:LBS
END:VEVENT
BEGIN:VEVENT
DTSTART;TZID=Europe/Paris:20250426T173000
DTEND;TZID=Europe/Paris:20250426T190000
DTSTAMP:20260424T083603
CREATED:20250115T145814Z
LAST-MODIFIED:20250115T145814Z
UID:3728-1745688600-1745694000@www.tsv-birkenau.de
SUMMARY:Herren 1 - TV Ispringen
DESCRIPTION:
URL:https://www.tsv-birkenau.de/index.php/veranstaltung/herren-1-tv-ispringen
LOCATION:LBS
END:VEVENT
BEGIN:VEVENT
DTSTART;TZID=Europe/Paris:20250412T153000
DTEND;TZID=Europe/Paris:20250412T170000
DTSTAMP:20260424T083603
CREATED:20250115T145712Z
LAST-MODIFIED:20250115T145712Z
UID:3702-1744471800-1744477200@www.tsv-birkenau.de
SUMMARY:Damen 1 - TV Edingen
DESCRIPTION:
URL:https://www.tsv-birkenau.de/index.php/veranstaltung/damen-1-tv-edingen
LOCATION:LBS
END:VEVENT
BEGIN:VEVENT
DTSTART;TZID=Europe/Paris:20250405T173000
DTEND;TZID=Europe/Paris:20250405T190000
DTSTAMP:20260424T083603
CREATED:20250115T145814Z
LAST-MODIFIED:20250115T145814Z
UID:3727-1743874200-1743879600@www.tsv-birkenau.de
SUMMARY:Damen 1b -SG HD Kirchheim
DESCRIPTION:
URL:https://www.tsv-birkenau.de/index.php/veranstaltung/damen-1b-sg-hd-kirchheim
LOCATION:LBS
END:VEVENT
BEGIN:VEVENT
DTSTART;TZID=Europe/Paris:20250329T193000
DTEND;TZID=Europe/Paris:20250329T210000
DTSTAMP:20260424T083603
CREATED:20250115T145801Z
LAST-MODIFIED:20250115T145801Z
UID:3725-1743276600-1743282000@www.tsv-birkenau.de
SUMMARY:Herren 1 -HSG Walzbacht
DESCRIPTION:
URL:https://www.tsv-birkenau.de/index.php/veranstaltung/herren-1-hsg-walzbacht
LOCATION:LBS
END:VEVENT
BEGIN:VEVENT
DTSTART;TZID=Europe/Paris:20250329T173000
DTEND;TZID=Europe/Paris:20250329T190000
DTSTAMP:20260424T083603
CREATED:20250115T145814Z
LAST-MODIFIED:20250115T145814Z
UID:3726-1743269400-1743274800@www.tsv-birkenau.de
SUMMARY:mA JSG - JSG Hemsbach/Laudenbach
DESCRIPTION:
URL:https://www.tsv-birkenau.de/index.php/veranstaltung/ma-jsg-jsg-hemsbach-laudenbach
LOCATION:LBS
END:VEVENT
BEGIN:VEVENT
DTSTART;TZID=Europe/Paris:20250322T193000
DTEND;TZID=Europe/Paris:20250322T210000
DTSTAMP:20260424T083603
CREATED:20250115T145801Z
LAST-MODIFIED:20250115T145801Z
UID:3724-1742671800-1742677200@www.tsv-birkenau.de
SUMMARY:Damen 1 -SG Heddesheim
DESCRIPTION:
URL:https://www.tsv-birkenau.de/index.php/veranstaltung/damen-1-sg-heddesheim
LOCATION:LBS
END:VEVENT
BEGIN:VEVENT
DTSTART;TZID=Europe/Paris:20250322T163000
DTEND;TZID=Europe/Paris:20250322T180000
DTSTAMP:20260424T083603
CREATED:20250115T145800Z
LAST-MODIFIED:20250115T145800Z
UID:3723-1742661000-1742666400@www.tsv-birkenau.de
SUMMARY:Damen 1b - TV Eppelheim
DESCRIPTION:
URL:https://www.tsv-birkenau.de/index.php/veranstaltung/damen-1b-tv-eppelheim
LOCATION:LBS
END:VEVENT
BEGIN:VEVENT
DTSTART;TZID=Europe/Paris:20250318T150000
DTEND;TZID=Europe/Paris:20250318T180000
DTSTAMP:20260424T083603
CREATED:20250308T095523Z
LAST-MODIFIED:20250308T095523Z
UID:3813-1742310000-1742320800@www.tsv-birkenau.de
SUMMARY:Gedenkfeier mit "Spatenstich" Peter-Denger-Platz
DESCRIPTION:
URL:https://www.tsv-birkenau.de/index.php/veranstaltung/gedenkfeier-mit-spatenstich-peter-denger-platz
LOCATION:HSH
END:VEVENT
BEGIN:VEVENT
DTSTART;TZID=Europe/Paris:20250315T193000
DTEND;TZID=Europe/Paris:20250315T210000
DTSTAMP:20260424T083604
CREATED:20250115T145800Z
LAST-MODIFIED:20250115T145800Z
UID:3722-1742067000-1742072400@www.tsv-birkenau.de
SUMMARY:Damen 1 - HSG Wein-Oberf
DESCRIPTION:
URL:https://www.tsv-birkenau.de/index.php/veranstaltung/damen-1-hsg-wein-oberf
LOCATION:LBS
END:VEVENT
END:VCALENDAR